BEGIN:VCALENDAR
VERSION:2.0
PRODID:-//hacksw/handcal//NONSGML v1.0//EN
CALSCALE:GREGORIAN
BEGIN:VEVENT
LOCATION:Tarragona
DESCRIPTION:
DTSTART:20160719T173000Z
DTEND:20160719T173000Z
SUMMARY:Conferencia: "Jujol y el Gremi de Pagesos"
URL;VALUE=URI:https://arquitectes.cat/ca/node/24895
DTSTAMP:20260419T144901Z
UID:69e4cf3d39c60
END:VEVENT
END:VCALENDAR