BEGIN:VCALENDAR
VERSION:2.0
PRODID:-//hacksw/handcal//NONSGML v1.0//EN
CALSCALE:GREGORIAN
BEGIN:VEVENT
LOCATION:Terrassa
DESCRIPTION:
DTSTART:20160712T091500Z
DTEND:20161017T160000Z
SUMMARY:Exposició: "Paisatges industrials. Un acostament visual a la indústria"
URL;VALUE=URI:https://arquitectes.cat/ca/content/exposici%C3%B3-paisatges-industrials-un-acostament-visual-la-ind%C3%BAstria
DTSTAMP:20260419T184148Z
UID:69e505ccdab44
END:VEVENT
END:VCALENDAR