BEGIN:VCALENDAR
VERSION:2.0
PRODID:-//hacksw/handcal//NONSGML v1.0//EN
CALSCALE:GREGORIAN
BEGIN:VEVENT
LOCATION:Tarragona
DESCRIPTION:
DTSTART:20160716T073000Z
DTEND:20160716T073000Z
SUMMARY:Visita al conjunto arqueológico de Olèrdola\, el acueducto romano del Pont del Diable\, la villa romana de Centcelles y el Pont de les Caixes
URL;VALUE=URI:https://arquitectes.cat/ca/node/24831
DTSTAMP:20260420T000255Z
UID:69e5510f1786d
END:VEVENT
END:VCALENDAR