BEGIN:VCALENDAR
VERSION:2.0
PRODID:-//hacksw/handcal//NONSGML v1.0//EN
CALSCALE:GREGORIAN
BEGIN:VEVENT
LOCATION:Barcelona
DESCRIPTION:
DTSTART:20160706T170000Z
DTEND:20161231T190000Z
SUMMARY:Arts Santa Mònica OFF SPACE: una nova forma d'experimentar La Rambla
URL;VALUE=URI:https://arquitectes.cat/ca/content/arts-santa-m%C3%B2nica-space-una-nova-forma-dexperimentar-la-rambla
DTSTAMP:20260420T054601Z
UID:69e5a17997f6a
END:VEVENT
END:VCALENDAR