BEGIN:VCALENDAR
VERSION:2.0
PRODID:-//hacksw/handcal//NONSGML v1.0//EN
CALSCALE:GREGORIAN
BEGIN:VEVENT
LOCATION:Barcelona
DESCRIPTION:
DTSTART:20160629T190000Z
DTEND:20160831T200000Z
SUMMARY:Visita guiada: Per la porta del darrere. Joc\, prostitució i negoci a la Barcelona del 1700
URL;VALUE=URI:https://arquitectes.cat/ca/content/visita-guiada-la-porta-del-darrere-joc-prostituci%C3%B3-i-negoci-la-barcelona-del-1700
DTSTAMP:20260419T181807Z
UID:69e5003fb4a31
END:VEVENT
END:VCALENDAR