BEGIN:VCALENDAR
VERSION:2.0
PRODID:-//hacksw/handcal//NONSGML v1.0//EN
CALSCALE:GREGORIAN
BEGIN:VEVENT
LOCATION:Barcelona
DESCRIPTION:
DTSTART:20160706T133000Z
DTEND:20160706T133000Z
SUMMARY:La Boja Retail Experience. Jornada de reflexión y debate sobre el diseño de espacios comerciales
URL;VALUE=URI:https://arquitectes.cat/ca/node/24721
DTSTAMP:20260422T124740Z
UID:69e8a74c0487d
END:VEVENT
END:VCALENDAR