BEGIN:VCALENDAR
VERSION:2.0
PRODID:-//hacksw/handcal//NONSGML v1.0//EN
CALSCALE:GREGORIAN
BEGIN:VEVENT
LOCATION:Barcelona
DESCRIPTION:
DTSTART:20160620T080000Z
DTEND:20160625T180000Z
SUMMARY:"Cierto Estudio" en el Espai Picasso
URL;VALUE=URI:https://arquitectes.cat/ca/node/24711
DTSTAMP:20260425T182059Z
UID:69ece9eb2da79
END:VEVENT
END:VCALENDAR