BEGIN:VCALENDAR
VERSION:2.0
PRODID:-//hacksw/handcal//NONSGML v1.0//EN
CALSCALE:GREGORIAN
BEGIN:VEVENT
LOCATION:Barcelona
DESCRIPTION:
DTSTART:20160627T183000Z
DTEND:20160627T183000Z
SUMMARY:David Bestué i Goig al cicle "Absolutament moder(rr)ns" 
URL;VALUE=URI:https://arquitectes.cat/ca/content/david-bestu%C3%A9-i-goig-al-cicle-absolutament-moderrrns
DTSTAMP:20260426T015726Z
UID:69ed54e63df33
END:VEVENT
END:VCALENDAR