BEGIN:VCALENDAR
VERSION:2.0
PRODID:-//hacksw/handcal//NONSGML v1.0//EN
CALSCALE:GREGORIAN
BEGIN:VEVENT
LOCATION:Figueres
DESCRIPTION:
DTSTART:20160628T173000Z
DTEND:20161002T213000Z
SUMMARY:Exposició dels Premis d'Arquitectura de les Comarques de Girona
URL;VALUE=URI:https://arquitectes.cat/ca/content/exposici%C3%B3-dels-premis-darquitectura-de-les-comarques-de-girona
DTSTAMP:20260419T163950Z
UID:69e4e936d9ff9
END:VEVENT
END:VCALENDAR