BEGIN:VCALENDAR
VERSION:2.0
PRODID:-//hacksw/handcal//NONSGML v1.0//EN
CALSCALE:GREGORIAN
BEGIN:VEVENT
LOCATION:Barcelona
DESCRIPTION:
DTSTART:20160629T163000Z
DTEND:20160629T163000Z
SUMMARY:Lecture by Wolf D. Prix - The Himmelb(l)au Project
URL;VALUE=URI:https://arquitectes.cat/ca/node/24617
DTSTAMP:20260419T150433Z
UID:69e4d2e14f123
END:VEVENT
END:VCALENDAR