BEGIN:VCALENDAR
VERSION:2.0
PRODID:-//hacksw/handcal//NONSGML v1.0//EN
CALSCALE:GREGORIAN
BEGIN:VEVENT
LOCATION:Barcelona
DESCRIPTION:
DTSTART:20160614T170000Z
DTEND:20160614T170000Z
SUMMARY:Presentació CRiG\, Col·lecció Rubiralta i Garriga
URL;VALUE=URI:https://arquitectes.cat/ca/content/presentaci%C3%B3-crig-col%C2%B7lecci%C3%B3-rubiralta-i-garriga
DTSTAMP:20260425T130721Z
UID:69eca0690bbe4
END:VEVENT
END:VCALENDAR