BEGIN:VCALENDAR
VERSION:2.0
PRODID:-//hacksw/handcal//NONSGML v1.0//EN
CALSCALE:GREGORIAN
BEGIN:VEVENT
LOCATION:Barcelona
DESCRIPTION:
DTSTART:20160618T080000Z
DTEND:20160618T080000Z
SUMMARY:Dia mundial de teixir en públic
URL;VALUE=URI:https://arquitectes.cat/ca/content/dia-mundial-de-teixir-en-p%C3%BAblic
DTSTAMP:20260419T155536Z
UID:69e4ded81b161
END:VEVENT
END:VCALENDAR