BEGIN:VCALENDAR
VERSION:2.0
PRODID:-//hacksw/handcal//NONSGML v1.0//EN
CALSCALE:GREGORIAN
BEGIN:VEVENT
LOCATION:Barcelona
DESCRIPTION:
DTSTART:20160614T170000Z
DTEND:20160614T170000Z
SUMMARY:Conferència de de Flores & Prats. Local i Visitant): PA·PALMA
URL;VALUE=URI:https://arquitectes.cat/ca/content/confer%C3%A8ncia-de-de-flores-prats-local-i-visitant-pa%C2%B7palma
DTSTAMP:20260420T053219Z
UID:69e59e43b69da
END:VEVENT
END:VCALENDAR