BEGIN:VCALENDAR
VERSION:2.0
PRODID:-//hacksw/handcal//NONSGML v1.0//EN
CALSCALE:GREGORIAN
BEGIN:VEVENT
LOCATION:Barcelona
DESCRIPTION:
DTSTART:20160608T170000Z
DTEND:20160724T170000Z
SUMMARY:Exposició: Ramon Llull i l'encontre entre cultures
URL;VALUE=URI:https://arquitectes.cat/ca/content/exposici%C3%B3-ramon-llull-i-lencontre-entre-cultures
DTSTAMP:20260423T033053Z
UID:69e9764d5a57f
END:VEVENT
END:VCALENDAR