BEGIN:VCALENDAR
VERSION:2.0
PRODID:-//hacksw/handcal//NONSGML v1.0//EN
CALSCALE:GREGORIAN
BEGIN:VEVENT
LOCATION:Barcelona
DESCRIPTION:
DTSTART:20160609T170000Z
DTEND:20160609T170000Z
SUMMARY:La obligación de la crítica en el tiempo de lo efímero
URL;VALUE=URI:https://arquitectes.cat/ca/node/24568
DTSTAMP:20260419T235417Z
UID:69e54f099ca38
END:VEVENT
END:VCALENDAR