BEGIN:VCALENDAR
VERSION:2.0
PRODID:-//hacksw/handcal//NONSGML v1.0//EN
CALSCALE:GREGORIAN
BEGIN:VEVENT
LOCATION:Barcelona
DESCRIPTION:
DTSTART:20160603T104500Z
DTEND:20160703T104500Z
SUMMARY:Exposicion "SWABSTAIRS 2016"
URL;VALUE=URI:https://arquitectes.cat/ca/node/24539
DTSTAMP:20260426T033513Z
UID:69ed6bd18dc75
END:VEVENT
END:VCALENDAR