BEGIN:VCALENDAR
VERSION:2.0
PRODID:-//hacksw/handcal//NONSGML v1.0//EN
CALSCALE:GREGORIAN
BEGIN:VEVENT
LOCATION:Barcelona
DESCRIPTION:
DTSTART:20160608T170000Z
DTEND:20160608T170000Z
SUMMARY:Entrega Premios FAD de Arquitectura e Interiorismo 2016
URL;VALUE=URI:https://arquitectes.cat/ca/node/24521
DTSTAMP:20260421T200801Z
UID:69e7bd0103dfe
END:VEVENT
END:VCALENDAR