BEGIN:VCALENDAR
VERSION:2.0
PRODID:-//hacksw/handcal//NONSGML v1.0//EN
CALSCALE:GREGORIAN
BEGIN:VEVENT
LOCATION:Barcelona
DESCRIPTION:
DTSTART:20160609T170000Z
DTEND:20160609T170000Z
SUMMARY:L’obligació de la crítica en el temps d’allò efímer
URL;VALUE=URI:https://arquitectes.cat/ca/content/l%E2%80%99obligaci%C3%B3-de-la-cr%C3%ADtica-en-el-temps-d%E2%80%99all%C3%B2-ef%C3%ADmer
DTSTAMP:20260419T215637Z
UID:69e533751c6c5
END:VEVENT
END:VCALENDAR