BEGIN:VCALENDAR
VERSION:2.0
PRODID:-//hacksw/handcal//NONSGML v1.0//EN
CALSCALE:GREGORIAN
BEGIN:VEVENT
LOCATION:Barcelona
DESCRIPTION:
DTSTART:20160530T163000Z
DTEND:20160530T163000Z
SUMMARY:Jornada Nou Palau Blaugrana
URL;VALUE=URI:https://arquitectes.cat/ca/content/jornada-nou-palau-blaugrana
DTSTAMP:20260419T222416Z
UID:69e539f07054d
END:VEVENT
END:VCALENDAR