BEGIN:VCALENDAR
VERSION:2.0
PRODID:-//hacksw/handcal//NONSGML v1.0//EN
CALSCALE:GREGORIAN
BEGIN:VEVENT
LOCATION:Barcelona
DESCRIPTION:
DTSTART:20160616T163000Z
DTEND:20160616T163000Z
SUMMARY:Les ciutats al segle XXI. Trobada amb Francesco Indovina i presentació del llibre "Cities in the 21st Century"
URL;VALUE=URI:https://arquitectes.cat/ca/content/les-ciutats-al-segle-xxi-trobada-amb-francesco-indovina-i-presentaci%C3%B3-del-llibre-cities-21st
DTSTAMP:20260419T192257Z
UID:69e50f71cd1f6
END:VEVENT
END:VCALENDAR