BEGIN:VCALENDAR
VERSION:2.0
PRODID:-//hacksw/handcal//NONSGML v1.0//EN
CALSCALE:GREGORIAN
BEGIN:VEVENT
LOCATION:Lleida
DESCRIPTION:
DTSTART:20160519T170000Z
DTEND:20160630T180000Z
SUMMARY:Exposición: "Paisaje y gente. Habitantes del espacio"
URL;VALUE=URI:https://arquitectes.cat/ca/node/24487
DTSTAMP:20260420T033540Z
UID:69e582ec4009f
END:VEVENT
END:VCALENDAR