BEGIN:VCALENDAR
VERSION:2.0
PRODID:-//hacksw/handcal//NONSGML v1.0//EN
CALSCALE:GREGORIAN
BEGIN:VEVENT
LOCATION:Barcelona
DESCRIPTION:
DTSTART:20160601T070000Z
DTEND:20160603T113000Z
SUMMARY:Congreso "Mente\, territorio y sociedad"
URL;VALUE=URI:https://arquitectes.cat/ca/node/24479
DTSTAMP:20260422T124705Z
UID:69e8a7298f20b
END:VEVENT
END:VCALENDAR