BEGIN:VCALENDAR
VERSION:2.0
PRODID:-//hacksw/handcal//NONSGML v1.0//EN
CALSCALE:GREGORIAN
BEGIN:VEVENT
LOCATION:Barcelona
DESCRIPTION:
DTSTART:20160519T170000Z
DTEND:20160519T170000Z
SUMMARY:GRAN (L)\, dotzena i última trobada del cicle ‘Converses d’Arquitectura’
URL;VALUE=URI:https://arquitectes.cat/ca/content/gran-l-dotzena-i-%C3%BAltima-trobada-del-cicle-%E2%80%98converses-d%E2%80%99arquitectura%E2%80%99
DTSTAMP:20260419T215858Z
UID:69e534022c751
END:VEVENT
END:VCALENDAR