BEGIN:VCALENDAR
VERSION:2.0
PRODID:-//hacksw/handcal//NONSGML v1.0//EN
CALSCALE:GREGORIAN
BEGIN:VEVENT
LOCATION:Barcelona
DESCRIPTION:
DTSTART:20160510T170000Z
DTEND:20160602T123000Z
SUMMARY:The COAC exhibits the selected projects for the new Camp Nou and Palau Blaugrana
URL;VALUE=URI:https://arquitectes.cat/ca/node/24448
DTSTAMP:20260419T200144Z
UID:69e5188809709
END:VEVENT
END:VCALENDAR