BEGIN:VCALENDAR
VERSION:2.0
PRODID:-//hacksw/handcal//NONSGML v1.0//EN
CALSCALE:GREGORIAN
BEGIN:VEVENT
LOCATION:Barcelona
DESCRIPTION:
DTSTART:20160512T170000Z
DTEND:20160512T170000Z
SUMMARY:Encreuaments Crítics: La crítica com a eina de pensament. Daniel Giralt-Miracle i Miguel Ángel Alonso del Val
URL;VALUE=URI:https://arquitectes.cat/ca/content/encreuaments-cr%C3%ADtics-la-cr%C3%ADtica-com-eina-de-pensament-daniel-giralt-miracle-i-miguel-%C3%A1ngel
DTSTAMP:20260423T175844Z
UID:69ea41b486d61
END:VEVENT
END:VCALENDAR