BEGIN:VCALENDAR
VERSION:2.0
PRODID:-//hacksw/handcal//NONSGML v1.0//EN
CALSCALE:GREGORIAN
BEGIN:VEVENT
LOCATION:Barcelona
DESCRIPTION:
DTSTART:20160429T170000Z
DTEND:20161113T190000Z
SUMMARY:Exposició: "Primers pagesos / BCN. La gran innovació fa 7.500 anys"
URL;VALUE=URI:https://arquitectes.cat/ca/content/exposici%C3%B3-primers-pagesos-bcn-la-gran-innovaci%C3%B3-fa-7500-anys
DTSTAMP:20260426T033613Z
UID:69ed6c0d3bdbc
END:VEVENT
END:VCALENDAR