BEGIN:VCALENDAR
VERSION:2.0
PRODID:-//hacksw/handcal//NONSGML v1.0//EN
CALSCALE:GREGORIAN
BEGIN:VEVENT
LOCATION:Girona
DESCRIPTION:
DTSTART:20160429T081500Z
DTEND:20160528T081500Z
SUMMARY:Exposició: "Pia Crozet. L'eloqüent silenci de l'escultura"
URL;VALUE=URI:https://arquitectes.cat/ca/content/exposici%C3%B3-pia-crozet-leloq%C3%BCent-silenci-de-lescultura
DTSTAMP:20260419T200645Z
UID:69e519b51ca0b
END:VEVENT
END:VCALENDAR