BEGIN:VCALENDAR
VERSION:2.0
PRODID:-//hacksw/handcal//NONSGML v1.0//EN
CALSCALE:GREGORIAN
BEGIN:VEVENT
LOCATION:Girona
DESCRIPTION:
DTSTART:20160507T080000Z
DTEND:20160515T180000Z
SUMMARY:Exposició "Atrapasomnis" a Girona\, Temps de flors 2016
URL;VALUE=URI:https://arquitectes.cat/ca/content/exposici%C3%B3-atrapasomnis-girona-temps-de-flors-2016
DTSTAMP:20260424T210122Z
UID:69ebbe02eeec2
END:VEVENT
END:VCALENDAR