BEGIN:VCALENDAR
VERSION:2.0
PRODID:-//hacksw/handcal//NONSGML v1.0//EN
CALSCALE:GREGORIAN
BEGIN:VEVENT
LOCATION:Girona
DESCRIPTION:
DTSTART:20160430T073000Z
DTEND:20160430T073000Z
SUMMARY:Visita a las ruinas de Ampurias y la Ciudad Ibérica de Ullastret
URL;VALUE=URI:https://arquitectes.cat/ca/node/24314
DTSTAMP:20260423T001541Z
UID:69e9488d4d4ef
END:VEVENT
END:VCALENDAR