BEGIN:VCALENDAR
VERSION:2.0
PRODID:-//hacksw/handcal//NONSGML v1.0//EN
CALSCALE:GREGORIAN
BEGIN:VEVENT
LOCATION:Barcelona
DESCRIPTION:
DTSTART:20160421T170000Z
DTEND:20160421T190000Z
SUMMARY:ESTRUCTURA\, desena trobada del cicle ‘Converses d’Arquitectura’
URL;VALUE=URI:https://arquitectes.cat/ca/content/estructura-desena-trobada-del-cicle-%E2%80%98converses-d%E2%80%99arquitectura%E2%80%99
DTSTAMP:20260422T032532Z
UID:69e8238cb1b19
END:VEVENT
END:VCALENDAR