BEGIN:VCALENDAR
VERSION:2.0
PRODID:-//hacksw/handcal//NONSGML v1.0//EN
CALSCALE:GREGORIAN
BEGIN:VEVENT
LOCATION:Barcelona
DESCRIPTION:
DTSTART:20160423T081500Z
DTEND:20160423T081500Z
SUMMARY:Visites comentades per Sant Jordi al Centre de Documentació del Museu del Disseny
URL;VALUE=URI:https://arquitectes.cat/ca/content/visites-comentades-sant-jordi-al-centre-de-documentaci%C3%B3-del-museu-del-disseny
DTSTAMP:20260419T163044Z
UID:69e4e7148faaf
END:VEVENT
END:VCALENDAR