BEGIN:VCALENDAR
VERSION:2.0
PRODID:-//hacksw/handcal//NONSGML v1.0//EN
CALSCALE:GREGORIAN
BEGIN:VEVENT
LOCATION:Barcelona
DESCRIPTION:
DTSTART:20160419T170000Z
DTEND:20160419T170000Z
SUMMARY:Presentació dels llibres "Reglas profesionales de construcción con paja"
URL;VALUE=URI:https://arquitectes.cat/ca/content/presentaci%C3%B3-dels-llibres-reglas-profesionales-de-construcci%C3%B3n-con-paja
DTSTAMP:20260422T061844Z
UID:69e84c2491dc7
END:VEVENT
END:VCALENDAR