BEGIN:VCALENDAR
VERSION:2.0
PRODID:-//hacksw/handcal//NONSGML v1.0//EN
CALSCALE:GREGORIAN
BEGIN:VEVENT
LOCATION:Barcelona
DESCRIPTION:
DTSTART:20160520T150000Z
DTEND:20160520T150000Z
SUMMARY:Guided tour: Pavilion of the Spanish Republic
URL;VALUE=URI:https://arquitectes.cat/ca/node/24282
DTSTAMP:20260420T052959Z
UID:69e59db726f2f
END:VEVENT
END:VCALENDAR