BEGIN:VCALENDAR
VERSION:2.0
PRODID:-//hacksw/handcal//NONSGML v1.0//EN
CALSCALE:GREGORIAN
BEGIN:VEVENT
LOCATION:Barcelona
DESCRIPTION:
DTSTART:20160415T170000Z
DTEND:20160415T170000Z
SUMMARY:Presentación del libro "L’Abans de Barcelona. Recull gràfic de Ciutat Vella"
URL;VALUE=URI:https://arquitectes.cat/ca/node/24255
DTSTAMP:20260419T191957Z
UID:69e50ebdd4941
END:VEVENT
END:VCALENDAR