BEGIN:VCALENDAR
VERSION:2.0
PRODID:-//hacksw/handcal//NONSGML v1.0//EN
CALSCALE:GREGORIAN
BEGIN:VEVENT
LOCATION:Vic
DESCRIPTION:
DTSTART:20160610T080000Z
DTEND:20160731T180000Z
SUMMARY:Exposició col·lectiva de ceramistes d’Osona: +++C
URL;VALUE=URI:https://arquitectes.cat/ca/content/exposici%C3%B3-col%C2%B7lectiva-de-ceramistes-d%E2%80%99osona-c
DTSTAMP:20260419T164600Z
UID:69e4eaa82e3dc
END:VEVENT
END:VCALENDAR