BEGIN:VCALENDAR
VERSION:2.0
PRODID:-//hacksw/handcal//NONSGML v1.0//EN
CALSCALE:GREGORIAN
BEGIN:VEVENT
LOCATION:Barcelona
DESCRIPTION:
DTSTART:20160415T170000Z
DTEND:20160415T170000Z
SUMMARY:Presentació del llibre "Guirigay del qué\, el cómo y el cuándo del diseño gráfico"
URL;VALUE=URI:https://arquitectes.cat/ca/content/presentaci%C3%B3-del-llibre-guirigay-del-qu%C3%A9-el-c%C3%B3mo-y-el-cu%C3%A1ndo-del-dise%C3%B1o-gr%C3%A1fico
DTSTAMP:20260419T225424Z
UID:69e5410031de0
END:VEVENT
END:VCALENDAR