BEGIN:VCALENDAR
VERSION:2.0
PRODID:-//hacksw/handcal//NONSGML v1.0//EN
CALSCALE:GREGORIAN
BEGIN:VEVENT
LOCATION:Barcelona
DESCRIPTION:
DTSTART:20160412T170000Z
DTEND:20160412T170000Z
SUMMARY:Presentación del libro "Barcelone\, la ville des marchés"
URL;VALUE=URI:https://arquitectes.cat/ca/node/24227
DTSTAMP:20260419T173847Z
UID:69e4f707790b9
END:VEVENT
END:VCALENDAR