BEGIN:VCALENDAR
VERSION:2.0
PRODID:-//hacksw/handcal//NONSGML v1.0//EN
CALSCALE:GREGORIAN
BEGIN:VEVENT
LOCATION:Sant Cugat del Vallès
DESCRIPTION:
DTSTART:20160421T083000Z
DTEND:20160421T083000Z
SUMMARY:Cicle Cultura Col·laborativa: ARQUITECTURES / PROFESSIONS. Col·lectiu RUSC i Xavi Vancells
URL;VALUE=URI:https://arquitectes.cat/ca/content/cicle-cultura-col%C2%B7laborativa-arquitectures-professions-col%C2%B7lectiu-rusc-i-xavi-vancells
DTSTAMP:20260419T151154Z
UID:69e4d49a0456d
END:VEVENT
END:VCALENDAR