BEGIN:VCALENDAR
VERSION:2.0
PRODID:-//hacksw/handcal//NONSGML v1.0//EN
CALSCALE:GREGORIAN
BEGIN:VEVENT
LOCATION:Barcelona
DESCRIPTION:
DTSTART:20160407T150000Z
DTEND:20160407T150000Z
SUMMARY:Lliurament de premis del Concurs Capbussó Urbà Barcelona
URL;VALUE=URI:https://arquitectes.cat/ca/content/lliurament-de-premis-del-concurs-capbuss%C3%B3-urb%C3%A0-barcelona
DTSTAMP:20260419T200845Z
UID:69e51a2d8267b
END:VEVENT
END:VCALENDAR