BEGIN:VCALENDAR
VERSION:2.0
PRODID:-//hacksw/handcal//NONSGML v1.0//EN
CALSCALE:GREGORIAN
BEGIN:VEVENT
LOCATION:Barcelona
DESCRIPTION:
DTSTART:20160408T170000Z
DTEND:20160408T170000Z
SUMMARY:3a sessió d'Ecumenòpolis: Construint llibertat
URL;VALUE=URI:https://arquitectes.cat/ca/content/3a-sessi%C3%B3-decumen%C3%B2polis-construint-llibertat
DTSTAMP:20260422T154333Z
UID:69e8d085e8f36
END:VEVENT
END:VCALENDAR