BEGIN:VCALENDAR
VERSION:2.0
PRODID:-//hacksw/handcal//NONSGML v1.0//EN
CALSCALE:GREGORIAN
BEGIN:VEVENT
LOCATION:Barcelona
DESCRIPTION:
DTSTART:20160404T170000Z
DTEND:20160404T170000Z
SUMMARY:Llegir l'escenari: AUDIOVISUALS
URL;VALUE=URI:https://arquitectes.cat/ca/content/llegir-lescenari-audiovisuals-0
DTSTAMP:20260424T165947Z
UID:69eb8563d8cb8
END:VEVENT
END:VCALENDAR