BEGIN:VCALENDAR
VERSION:2.0
PRODID:-//hacksw/handcal//NONSGML v1.0//EN
CALSCALE:GREGORIAN
BEGIN:VEVENT
LOCATION:Barcelona
DESCRIPTION:
DTSTART:20160315T180000Z
DTEND:20160415T180000Z
SUMMARY:Exposició SOSTRES 1915-2015
URL;VALUE=URI:https://arquitectes.cat/ca/content/exposici%C3%B3-sostres-1915-2015
DTSTAMP:20260419T133518Z
UID:69e4bdf65fa78
END:VEVENT
END:VCALENDAR