BEGIN:VCALENDAR
VERSION:2.0
PRODID:-//hacksw/handcal//NONSGML v1.0//EN
CALSCALE:GREGORIAN
BEGIN:VEVENT
LOCATION:Barcelona
DESCRIPTION:
DTSTART:20160402T100000Z
DTEND:20160402T100000Z
SUMMARY:Visita a càrrec de la comissària a La Casa Gralla. El periple d'un monument 
URL;VALUE=URI:https://arquitectes.cat/ca/content/visita-c%C3%A0rrec-de-la-comiss%C3%A0ria-la-casa-gralla-el-periple-dun-monument
DTSTAMP:20260419T215326Z
UID:69e532b6b2c13
END:VEVENT
END:VCALENDAR