BEGIN:VCALENDAR
VERSION:2.0
PRODID:-//hacksw/handcal//NONSGML v1.0//EN
CALSCALE:GREGORIAN
BEGIN:VEVENT
LOCATION:Lleida
DESCRIPTION:
DTSTART:20160317T180000Z
DTEND:20160317T180000Z
SUMMARY:Cicle "Debat a bat”: Jaume Terés + David Pàmpols
URL;VALUE=URI:https://arquitectes.cat/ca/content/cicle-debat-bat%E2%80%9D-jaume-ter%C3%A9s-david-p%C3%A0mpols
DTSTAMP:20260425T190928Z
UID:69ecf5489f34b
END:VEVENT
END:VCALENDAR