BEGIN:VCALENDAR
VERSION:2.0
PRODID:-//hacksw/handcal//NONSGML v1.0//EN
CALSCALE:GREGORIAN
BEGIN:VEVENT
LOCATION:Lleida
DESCRIPTION:
DTSTART:20160317T180000Z
DTEND:20160317T180000Z
SUMMARY:CICLE: DEBAT A BAT. Conferència a càrrec de Jaume Terés i David Pàmpols
URL;VALUE=URI:https://arquitectes.cat/ca/content/cicle-debat-bat-confer%C3%A8ncia-c%C3%A0rrec-de-jaume-ter%C3%A9s-i-david-p%C3%A0mpols
DTSTAMP:20260419T150259Z
UID:69e4d283ee004
END:VEVENT
END:VCALENDAR