BEGIN:VCALENDAR
VERSION:2.0
PRODID:-//hacksw/handcal//NONSGML v1.0//EN
CALSCALE:GREGORIAN
BEGIN:VEVENT
LOCATION:Barcelona
DESCRIPTION:
DTSTART:20160315T080000Z
DTEND:20160717T180000Z
SUMMARY:Exposició "Toni Catany. D’anar i tornar"
URL;VALUE=URI:https://arquitectes.cat/ca/content/exposici%C3%B3-toni-catany-d%E2%80%99anar-i-tornar
DTSTAMP:20260420T055227Z
UID:69e5a2fb770a1
END:VEVENT
END:VCALENDAR