BEGIN:VCALENDAR
VERSION:2.0
PRODID:-//hacksw/handcal//NONSGML v1.0//EN
CALSCALE:GREGORIAN
BEGIN:VEVENT
LOCATION:Tarragona
DESCRIPTION:
DTSTART:20160331T173000Z
DTEND:20160331T173000Z
SUMMARY:Conferència: ME/WE ARCHIKUBIK
URL;VALUE=URI:https://arquitectes.cat/ca/content/confer%C3%A8ncia-mewe-archikubik
DTSTAMP:20260419T155124Z
UID:69e4dddccd8af
END:VEVENT
END:VCALENDAR