BEGIN:VCALENDAR
VERSION:2.0
PRODID:-//hacksw/handcal//NONSGML v1.0//EN
CALSCALE:GREGORIAN
BEGIN:VEVENT
LOCATION:Barcelona
DESCRIPTION:
DTSTART:20160303T173000Z
DTEND:20160303T173000Z
SUMMARY:Arquitectura G / Studio Animal / Guillermo Santomà en el "Absolutamente moder(rr)nos"
URL;VALUE=URI:https://arquitectes.cat/ca/node/23928
DTSTAMP:20260419T223403Z
UID:69e53c3b5d0cd
END:VEVENT
END:VCALENDAR