BEGIN:VCALENDAR
VERSION:2.0
PRODID:-//hacksw/handcal//NONSGML v1.0//EN
CALSCALE:GREGORIAN
BEGIN:VEVENT
LOCATION:Barcelona
DESCRIPTION:
DTSTART:20160303T173000Z
DTEND:20160310T180000Z
SUMMARY:Carlos Valverde i Flexo arquitectura al cicle "Absolutament moder(rr)ns" 
URL;VALUE=URI:https://arquitectes.cat/ca/content/carlos-valverde-i-flexo-arquitectura-al-cicle-absolutament-moderrrns
DTSTAMP:20260424T122121Z
UID:69eb4421751ae
END:VEVENT
END:VCALENDAR