BEGIN:VCALENDAR
VERSION:2.0
PRODID:-//hacksw/handcal//NONSGML v1.0//EN
CALSCALE:GREGORIAN
BEGIN:VEVENT
LOCATION:Barcelona
DESCRIPTION:
DTSTART:20160309T160000Z
DTEND:20160309T160000Z
SUMMARY:Mesa redonda: Nuevas maneras de afrontar las necesidades urbanísticas
URL;VALUE=URI:https://arquitectes.cat/ca/node/23916
DTSTAMP:20260422T062524Z
UID:69e84db492513
END:VEVENT
END:VCALENDAR